[Date Prev][Date Next][Thread Prev][Thread Next][Date Index][Thread Index] [ovmf test] 171671: all pass - PUSHED
flight 171671 ovmf real [real] http://logs.test-lab.xenproject.org/osstest/logs/171671/ Perfect :-) All tests in this flight passed as required version targeted for testing: ovmf 792ebb6374f2b92e2c4b84f5b8d151a129ed81cc baseline version: ovmf fc4a132c0e9d108d30115cb8729f8fcd5564b855 Last test of basis 171668 2022-07-18 13:13:08 Z 0 days Testing same since 171671 2022-07-18 17:10:27 Z 0 days 1 attempts ------------------------------------------------------------ People who touched revisions under test: Pierre Gondois <Pierre.Gondois@xxxxxxx> jobs: build-amd64-xsm pass build-i386-xsm pass build-amd64 pass build-i386 pass build-amd64-libvirt pass build-i386-libvirt pass build-amd64-pvops pass build-i386-pvops pass test-amd64-amd64-xl-qemuu-ovmf-amd64 pass test-amd64-i386-xl-qemuu-ovmf-amd64 pass ------------------------------------------------------------ sg-report-flight on osstest.test-lab.xenproject.org logs: /home/logs/logs images: /home/logs/images Logs, config files, etc. are available at http://logs.test-lab.xenproject.org/osstest/logs Explanation of these reports, and of osstest in general, is at http://xenbits.xen.org/gitweb/?p=osstest.git;a=blob;f=README.email;hb=master http://xenbits.xen.org/gitweb/?p=osstest.git;a=blob;f=README;hb=master Test harness code can be found at http://xenbits.xen.org/gitweb?p=osstest.git;a=summary Pushing revision : To xenbits.xen.org:/home/xen/git/osstest/ovmf.git fc4a132c0e..792ebb6374 792ebb6374f2b92e2c4b84f5b8d151a129ed81cc -> xen-tested-master
|
Lists.xenproject.org is hosted with RackSpace, monitoring our |