[Date Prev][Date Next][Thread Prev][Thread Next][Date Index][Thread Index] [ovmf test] 173463: all pass - PUSHED
flight 173463 ovmf real [real] http://logs.test-lab.xenproject.org/osstest/logs/173463/ Perfect :-) All tests in this flight passed as required version targeted for testing: ovmf 406ad0582a3df7af498ec4f0adee1a95ceeae64f baseline version: ovmf 5ff7d712d489a4fba4e8b0f609218e33c1208e52 Last test of basis 173449 2022-10-06 17:40:27 Z 1 days Testing same since 173463 2022-10-07 18:42:36 Z 0 days 1 attempts ------------------------------------------------------------ People who touched revisions under test: Gerd Hoffmann <kraxel@xxxxxxxxxx> jobs: build-amd64-xsm pass build-i386-xsm pass build-amd64 pass build-i386 pass build-amd64-libvirt pass build-i386-libvirt pass build-amd64-pvops pass build-i386-pvops pass test-amd64-amd64-xl-qemuu-ovmf-amd64 pass test-amd64-i386-xl-qemuu-ovmf-amd64 pass ------------------------------------------------------------ sg-report-flight on osstest.test-lab.xenproject.org logs: /home/logs/logs images: /home/logs/images Logs, config files, etc. are available at http://logs.test-lab.xenproject.org/osstest/logs Explanation of these reports, and of osstest in general, is at http://xenbits.xen.org/gitweb/?p=osstest.git;a=blob;f=README.email;hb=master http://xenbits.xen.org/gitweb/?p=osstest.git;a=blob;f=README;hb=master Test harness code can be found at http://xenbits.xen.org/gitweb?p=osstest.git;a=summary Pushing revision : To xenbits.xen.org:/home/xen/git/osstest/ovmf.git 5ff7d712d4..406ad0582a 406ad0582a3df7af498ec4f0adee1a95ceeae64f -> xen-tested-master
|
![]() |
Lists.xenproject.org is hosted with RackSpace, monitoring our |