[Date Prev][Date Next][Thread Prev][Thread Next][Date Index][Thread Index] [ovmf test] 174623: all pass - PUSHED
flight 174623 ovmf real [real] http://logs.test-lab.xenproject.org/osstest/logs/174623/ Perfect :-) All tests in this flight passed as required version targeted for testing: ovmf eff44c008d99eca6e3700e864b014821ba88683c baseline version: ovmf 2695e4921944d12be3d7e38f8e68a5c5ed01b005 Last test of basis 174620 2022-11-04 06:41:48 Z 0 days Testing same since 174623 2022-11-04 12:13:19 Z 0 days 1 attempts ------------------------------------------------------------ People who touched revisions under test: Guorui Yu <ruogui.ygr@xxxxxxxxxxxxxxx> Min M Xu <min.m.xu@xxxxxxxxx> Min Xu <min.m.xu@xxxxxxxxx> jobs: build-amd64-xsm pass build-i386-xsm pass build-amd64 pass build-i386 pass build-amd64-libvirt pass build-i386-libvirt pass build-amd64-pvops pass build-i386-pvops pass test-amd64-amd64-xl-qemuu-ovmf-amd64 pass test-amd64-i386-xl-qemuu-ovmf-amd64 pass ------------------------------------------------------------ sg-report-flight on osstest.test-lab.xenproject.org logs: /home/logs/logs images: /home/logs/images Logs, config files, etc. are available at http://logs.test-lab.xenproject.org/osstest/logs Explanation of these reports, and of osstest in general, is at http://xenbits.xen.org/gitweb/?p=osstest.git;a=blob;f=README.email;hb=master http://xenbits.xen.org/gitweb/?p=osstest.git;a=blob;f=README;hb=master Test harness code can be found at http://xenbits.xen.org/gitweb?p=osstest.git;a=summary Pushing revision : To xenbits.xen.org:/home/xen/git/osstest/ovmf.git 2695e49219..eff44c008d eff44c008d99eca6e3700e864b014821ba88683c -> xen-tested-master
|
![]() |
Lists.xenproject.org is hosted with RackSpace, monitoring our |