[Date Prev][Date Next][Thread Prev][Thread Next][Date Index][Thread Index] [ovmf test] 174983: all pass - PUSHED
flight 174983 ovmf real [real] http://logs.test-lab.xenproject.org/osstest/logs/174983/ Perfect :-) All tests in this flight passed as required version targeted for testing: ovmf ae3bc559f98e68983df0a4b223dad7afeb6eee2c baseline version: ovmf d992163da6cb3c6e91c24938ad4b8804227eafd8 Last test of basis 174980 2022-11-28 09:10:22 Z 0 days Testing same since 174983 2022-11-29 00:43:15 Z 0 days 1 attempts ------------------------------------------------------------ People who touched revisions under test: Michael Kubacki <michael.kubacki@xxxxxxxxxxxxx> jobs: build-amd64-xsm pass build-i386-xsm pass build-amd64 pass build-i386 pass build-amd64-libvirt pass build-i386-libvirt pass build-amd64-pvops pass build-i386-pvops pass test-amd64-amd64-xl-qemuu-ovmf-amd64 pass test-amd64-i386-xl-qemuu-ovmf-amd64 pass ------------------------------------------------------------ sg-report-flight on osstest.test-lab.xenproject.org logs: /home/logs/logs images: /home/logs/images Logs, config files, etc. are available at http://logs.test-lab.xenproject.org/osstest/logs Explanation of these reports, and of osstest in general, is at http://xenbits.xen.org/gitweb/?p=osstest.git;a=blob;f=README.email;hb=master http://xenbits.xen.org/gitweb/?p=osstest.git;a=blob;f=README;hb=master Test harness code can be found at http://xenbits.xen.org/gitweb?p=osstest.git;a=summary Pushing revision : To xenbits.xen.org:/home/xen/git/osstest/ovmf.git d992163da6..ae3bc559f9 ae3bc559f98e68983df0a4b223dad7afeb6eee2c -> xen-tested-master
|
![]() |
Lists.xenproject.org is hosted with RackSpace, monitoring our |