[Date Prev][Date Next][Thread Prev][Thread Next][Date Index][Thread Index] [xtf test] 176259: all pass - PUSHED
flight 176259 xtf real [real] http://logs.test-lab.xenproject.org/osstest/logs/176259/ Perfect :-) All tests in this flight passed as required version targeted for testing: xtf bf1c4eb6cb52785cf539eb83752dfcecfe66c5d1 baseline version: xtf c0f454c68329301447fd258e47824f7d402f19e9 Last test of basis 175715 2023-01-11 01:41:46 Z 16 days Testing same since 176259 2023-01-27 21:12:33 Z 0 days 1 attempts ------------------------------------------------------------ People who touched revisions under test: Andrew Cooper <andrew.cooper3@xxxxxxxxxx> jobs: build-amd64-xtf pass build-amd64 pass build-amd64-pvops pass test-xtf-amd64-amd64-1 pass test-xtf-amd64-amd64-2 pass test-xtf-amd64-amd64-3 pass test-xtf-amd64-amd64-4 pass test-xtf-amd64-amd64-5 pass ------------------------------------------------------------ sg-report-flight on osstest.test-lab.xenproject.org logs: /home/logs/logs images: /home/logs/images Logs, config files, etc. are available at http://logs.test-lab.xenproject.org/osstest/logs Explanation of these reports, and of osstest in general, is at http://xenbits.xen.org/gitweb/?p=osstest.git;a=blob;f=README.email;hb=master http://xenbits.xen.org/gitweb/?p=osstest.git;a=blob;f=README;hb=master Test harness code can be found at http://xenbits.xen.org/gitweb?p=osstest.git;a=summary Pushing revision : To xenbits.xen.org:/home/xen/git/xtf.git c0f454c..bf1c4eb bf1c4eb6cb52785cf539eb83752dfcecfe66c5d1 -> xen-tested-master
|
![]() |
Lists.xenproject.org is hosted with RackSpace, monitoring our |