[Date Prev][Date Next][Thread Prev][Thread Next][Date Index][Thread Index] [ovmf test] 176306: all pass - PUSHED
flight 176306 ovmf real [real] http://logs.test-lab.xenproject.org/osstest/logs/176306/ Perfect :-) All tests in this flight passed as required version targeted for testing: ovmf bda715bf6d7cf565ccd4eda1f48e850ab8e2d452 baseline version: ovmf 2f2fd79fc4000a9ef89792677e85c99224e5a035 Last test of basis 176299 2023-01-31 15:11:11 Z 0 days Testing same since 176306 2023-02-01 02:42:07 Z 0 days 1 attempts ------------------------------------------------------------ People who touched revisions under test: Chao Li <lichao@xxxxxxxxxxx> jobs: build-amd64-xsm pass build-i386-xsm pass build-amd64 pass build-i386 pass build-amd64-libvirt pass build-i386-libvirt pass build-amd64-pvops pass build-i386-pvops pass test-amd64-amd64-xl-qemuu-ovmf-amd64 pass test-amd64-i386-xl-qemuu-ovmf-amd64 pass ------------------------------------------------------------ sg-report-flight on osstest.test-lab.xenproject.org logs: /home/logs/logs images: /home/logs/images Logs, config files, etc. are available at http://logs.test-lab.xenproject.org/osstest/logs Explanation of these reports, and of osstest in general, is at http://xenbits.xen.org/gitweb/?p=osstest.git;a=blob;f=README.email;hb=master http://xenbits.xen.org/gitweb/?p=osstest.git;a=blob;f=README;hb=master Test harness code can be found at http://xenbits.xen.org/gitweb?p=osstest.git;a=summary Pushing revision : To xenbits.xen.org:/home/xen/git/osstest/ovmf.git 2f2fd79fc4..bda715bf6d bda715bf6d7cf565ccd4eda1f48e850ab8e2d452 -> xen-tested-master
|
![]() |
Lists.xenproject.org is hosted with RackSpace, monitoring our |