[Date Prev][Date Next][Thread Prev][Thread Next][Date Index][Thread Index] [ovmf test] 180535: all pass - PUSHED
flight 180535 ovmf real [real] http://logs.test-lab.xenproject.org/osstest/logs/180535/ Perfect :-) All tests in this flight passed as required version targeted for testing: ovmf d992a05ade3d1bebc6e7a81aaf700286e0e217c8 baseline version: ovmf 4b02045f86d6aac8a617bf3f65f9cb2146630ce3 Last test of basis 180532 2023-05-04 14:40:45 Z 0 days Testing same since 180535 2023-05-04 19:12:15 Z 0 days 1 attempts ------------------------------------------------------------ People who touched revisions under test: Chasel Chiu <chasel.chiu@xxxxxxxxx> jobs: build-amd64-xsm pass build-i386-xsm pass build-amd64 pass build-i386 pass build-amd64-libvirt pass build-i386-libvirt pass build-amd64-pvops pass build-i386-pvops pass test-amd64-amd64-xl-qemuu-ovmf-amd64 pass test-amd64-i386-xl-qemuu-ovmf-amd64 pass ------------------------------------------------------------ sg-report-flight on osstest.test-lab.xenproject.org logs: /home/logs/logs images: /home/logs/images Logs, config files, etc. are available at http://logs.test-lab.xenproject.org/osstest/logs Explanation of these reports, and of osstest in general, is at http://xenbits.xen.org/gitweb/?p=osstest.git;a=blob;f=README.email;hb=master http://xenbits.xen.org/gitweb/?p=osstest.git;a=blob;f=README;hb=master Test harness code can be found at http://xenbits.xen.org/gitweb?p=osstest.git;a=summary Pushing revision : To xenbits.xen.org:/home/xen/git/osstest/ovmf.git 4b02045f86..d992a05ade d992a05ade3d1bebc6e7a81aaf700286e0e217c8 -> xen-tested-master
|
![]() |
Lists.xenproject.org is hosted with RackSpace, monitoring our |