[Date Prev][Date Next][Thread Prev][Thread Next][Date Index][Thread Index] [ovmf test] 180579: all pass - PUSHED
flight 180579 ovmf real [real] http://logs.test-lab.xenproject.org/osstest/logs/180579/ Perfect :-) All tests in this flight passed as required version targeted for testing: ovmf 6eeb58ece38060be3b0f7111649a93cc8b2dca49 baseline version: ovmf d89492456f79e014679cb6c29b144ea26b910918 Last test of basis 180575 2023-05-08 11:43:41 Z 0 days Testing same since 180579 2023-05-08 13:40:39 Z 0 days 1 attempts ------------------------------------------------------------ People who touched revisions under test: Minh Nguyen <minhnguyen1@xxxxxxxxxxxxxxxxxxxxxx> Nhi Pham <nhi@xxxxxxxxxxxxxxxxxxxxxx> Vu Nguyen <vunguyen@xxxxxxxxxxxxxxxxxxxxxx> jobs: build-amd64-xsm pass build-i386-xsm pass build-amd64 pass build-i386 pass build-amd64-libvirt pass build-i386-libvirt pass build-amd64-pvops pass build-i386-pvops pass test-amd64-amd64-xl-qemuu-ovmf-amd64 pass test-amd64-i386-xl-qemuu-ovmf-amd64 pass ------------------------------------------------------------ sg-report-flight on osstest.test-lab.xenproject.org logs: /home/logs/logs images: /home/logs/images Logs, config files, etc. are available at http://logs.test-lab.xenproject.org/osstest/logs Explanation of these reports, and of osstest in general, is at http://xenbits.xen.org/gitweb/?p=osstest.git;a=blob;f=README.email;hb=master http://xenbits.xen.org/gitweb/?p=osstest.git;a=blob;f=README;hb=master Test harness code can be found at http://xenbits.xen.org/gitweb?p=osstest.git;a=summary Pushing revision : To xenbits.xen.org:/home/xen/git/osstest/ovmf.git d89492456f..6eeb58ece3 6eeb58ece38060be3b0f7111649a93cc8b2dca49 -> xen-tested-master
|
![]() |
Lists.xenproject.org is hosted with RackSpace, monitoring our |