[Date Prev][Date Next][Thread Prev][Thread Next][Date Index][Thread Index] [ovmf test] 180991: all pass - PUSHED
flight 180991 ovmf real [real] http://logs.test-lab.xenproject.org/osstest/logs/180991/ Perfect :-) All tests in this flight passed as required version targeted for testing: ovmf 0f8323b44b20c982f303cc01ccf7146556bc3d4d baseline version: ovmf ba91d0292e593df8528b66f99c1b0b14fadc8e16 Last test of basis 180928 2023-05-24 13:10:44 Z 4 days Testing same since 180991 2023-05-29 01:42:18 Z 0 days 1 attempts ------------------------------------------------------------ People who touched revisions under test: Gua Guo <gua.guo@xxxxxxxxx> jobs: build-amd64-xsm pass build-i386-xsm pass build-amd64 pass build-i386 pass build-amd64-libvirt pass build-i386-libvirt pass build-amd64-pvops pass build-i386-pvops pass test-amd64-amd64-xl-qemuu-ovmf-amd64 pass test-amd64-i386-xl-qemuu-ovmf-amd64 pass ------------------------------------------------------------ sg-report-flight on osstest.test-lab.xenproject.org logs: /home/logs/logs images: /home/logs/images Logs, config files, etc. are available at http://logs.test-lab.xenproject.org/osstest/logs Explanation of these reports, and of osstest in general, is at http://xenbits.xen.org/gitweb/?p=osstest.git;a=blob;f=README.email;hb=master http://xenbits.xen.org/gitweb/?p=osstest.git;a=blob;f=README;hb=master Test harness code can be found at http://xenbits.xen.org/gitweb?p=osstest.git;a=summary Pushing revision : To xenbits.xen.org:/home/xen/git/osstest/ovmf.git ba91d0292e..0f8323b44b 0f8323b44b20c982f303cc01ccf7146556bc3d4d -> xen-tested-master
|
![]() |
Lists.xenproject.org is hosted with RackSpace, monitoring our |