[Date Prev][Date Next][Thread Prev][Thread Next][Date Index][Thread Index] [ovmf test] 181806: all pass - PUSHED
flight 181806 ovmf real [real] http://logs.test-lab.xenproject.org/osstest/logs/181806/ Perfect :-) All tests in this flight passed as required version targeted for testing: ovmf e674096accc8e57cd0dd84679905e1222423251e baseline version: ovmf ff3382a51ca726a90f49623a2b2d2e8ad8459ce2 Last test of basis 181786 2023-07-13 17:42:16 Z 1 days Testing same since 181802 2023-07-14 23:12:30 Z 0 days 2 attempts ------------------------------------------------------------ People who touched revisions under test: Tom Lendacky <thomas.lendacky@xxxxxxx> jobs: build-amd64-xsm pass build-i386-xsm pass build-amd64 pass build-i386 pass build-amd64-libvirt pass build-i386-libvirt pass build-amd64-pvops pass build-i386-pvops pass test-amd64-amd64-xl-qemuu-ovmf-amd64 pass test-amd64-i386-xl-qemuu-ovmf-amd64 pass ------------------------------------------------------------ sg-report-flight on osstest.test-lab.xenproject.org logs: /home/logs/logs images: /home/logs/images Logs, config files, etc. are available at http://logs.test-lab.xenproject.org/osstest/logs Explanation of these reports, and of osstest in general, is at http://xenbits.xen.org/gitweb/?p=osstest.git;a=blob;f=README.email;hb=master http://xenbits.xen.org/gitweb/?p=osstest.git;a=blob;f=README;hb=master Test harness code can be found at http://xenbits.xen.org/gitweb?p=osstest.git;a=summary Pushing revision : To xenbits.xen.org:/home/xen/git/osstest/ovmf.git ff3382a51c..e674096acc e674096accc8e57cd0dd84679905e1222423251e -> xen-tested-master
|
![]() |
Lists.xenproject.org is hosted with RackSpace, monitoring our |