[Date Prev][Date Next][Thread Prev][Thread Next][Date Index][Thread Index] [ovmf test] 183099: all pass - PUSHED
flight 183099 ovmf real [real] http://logs.test-lab.xenproject.org/osstest/logs/183099/ Perfect :-) All tests in this flight passed as required version targeted for testing: ovmf ea628f28e59849ee7b91e6660c0ecd1a5c6e0884 baseline version: ovmf 89dad77cfbffda0303383a11026d854008c1b731 Last test of basis 183087 2023-09-20 15:10:51 Z 0 days Testing same since 183099 2023-09-21 05:10:53 Z 0 days 1 attempts ------------------------------------------------------------ People who touched revisions under test: Andrei Warkentin <andrei.warkentin@xxxxxxxxx> jobs: build-amd64-xsm pass build-i386-xsm pass build-amd64 pass build-i386 pass build-amd64-libvirt pass build-i386-libvirt pass build-amd64-pvops pass build-i386-pvops pass test-amd64-amd64-xl-qemuu-ovmf-amd64 pass test-amd64-i386-xl-qemuu-ovmf-amd64 pass ------------------------------------------------------------ sg-report-flight on osstest.test-lab.xenproject.org logs: /home/logs/logs images: /home/logs/images Logs, config files, etc. are available at http://logs.test-lab.xenproject.org/osstest/logs Explanation of these reports, and of osstest in general, is at http://xenbits.xen.org/gitweb/?p=osstest.git;a=blob;f=README.email;hb=master http://xenbits.xen.org/gitweb/?p=osstest.git;a=blob;f=README;hb=master Test harness code can be found at http://xenbits.xen.org/gitweb?p=osstest.git;a=summary Pushing revision : To xenbits.xen.org:/home/xen/git/osstest/ovmf.git 89dad77cfb..ea628f28e5 ea628f28e59849ee7b91e6660c0ecd1a5c6e0884 -> xen-tested-master
|
![]() |
Lists.xenproject.org is hosted with RackSpace, monitoring our |