[Date Prev][Date Next][Thread Prev][Thread Next][Date Index][Thread Index] [ovmf test] 183966: all pass - PUSHED
flight 183966 ovmf real [real] http://logs.test-lab.xenproject.org/osstest/logs/183966/ Perfect :-) All tests in this flight passed as required version targeted for testing: ovmf 70b174e24db4a6de1590fda65846074dcb9fd7d3 baseline version: ovmf 534021965f6f7c417610add53984f39d6945bbcf Last test of basis 183958 2023-12-01 01:15:11 Z 0 days Testing same since 183966 2023-12-01 15:11:04 Z 0 days 1 attempts ------------------------------------------------------------ People who touched revisions under test: Abner Chang <abner.chang@xxxxxxx> jobs: build-amd64-xsm pass build-i386-xsm pass build-amd64 pass build-i386 pass build-amd64-libvirt pass build-i386-libvirt pass build-amd64-pvops pass build-i386-pvops pass test-amd64-amd64-xl-qemuu-ovmf-amd64 pass test-amd64-i386-xl-qemuu-ovmf-amd64 pass ------------------------------------------------------------ sg-report-flight on osstest.test-lab.xenproject.org logs: /home/logs/logs images: /home/logs/images Logs, config files, etc. are available at http://logs.test-lab.xenproject.org/osstest/logs Explanation of these reports, and of osstest in general, is at http://xenbits.xen.org/gitweb/?p=osstest.git;a=blob;f=README.email;hb=master http://xenbits.xen.org/gitweb/?p=osstest.git;a=blob;f=README;hb=master Test harness code can be found at http://xenbits.xen.org/gitweb?p=osstest.git;a=summary Pushing revision : To xenbits.xen.org:/home/xen/git/osstest/ovmf.git 534021965f..70b174e24d 70b174e24db4a6de1590fda65846074dcb9fd7d3 -> xen-tested-master
|
![]() |
Lists.xenproject.org is hosted with RackSpace, monitoring our |