[Date Prev][Date Next][Thread Prev][Thread Next][Date Index][Thread Index] [ovmf test] 184175: all pass - PUSHED
flight 184175 ovmf real [real] http://logs.test-lab.xenproject.org/osstest/logs/184175/ Perfect :-) All tests in this flight passed as required version targeted for testing: ovmf b1f33cbf8113bb07526c9f6946c250c7d9db44f9 baseline version: ovmf 3c66390e4a514dcce4c8cc82f489d653d55ee3fa Last test of basis 184173 2023-12-19 09:44:28 Z 0 days Testing same since 184175 2023-12-19 13:11:00 Z 0 days 1 attempts ------------------------------------------------------------ People who touched revisions under test: Dhaval <dhaval@xxxxxxxxxxxx> Dhaval Sharma <dhaval@xxxxxxxxxxxx> Laszlo Ersek <lersek@xxxxxxxxxx> jobs: build-amd64-xsm pass build-i386-xsm pass build-amd64 pass build-i386 pass build-amd64-libvirt pass build-i386-libvirt pass build-amd64-pvops pass build-i386-pvops pass test-amd64-amd64-xl-qemuu-ovmf-amd64 pass test-amd64-i386-xl-qemuu-ovmf-amd64 pass ------------------------------------------------------------ sg-report-flight on osstest.test-lab.xenproject.org logs: /home/logs/logs images: /home/logs/images Logs, config files, etc. are available at http://logs.test-lab.xenproject.org/osstest/logs Explanation of these reports, and of osstest in general, is at http://xenbits.xen.org/gitweb/?p=osstest.git;a=blob;f=README.email;hb=master http://xenbits.xen.org/gitweb/?p=osstest.git;a=blob;f=README;hb=master Test harness code can be found at http://xenbits.xen.org/gitweb?p=osstest.git;a=summary Pushing revision : To xenbits.xen.org:/home/xen/git/osstest/ovmf.git 3c66390e4a..b1f33cbf81 b1f33cbf8113bb07526c9f6946c250c7d9db44f9 -> xen-tested-master
|
![]() |
Lists.xenproject.org is hosted with RackSpace, monitoring our |