[Date Prev][Date Next][Thread Prev][Thread Next][Date Index][Thread Index] [ovmf test] 184423: all pass - PUSHED
flight 184423 ovmf real [real] http://logs.test-lab.xenproject.org/osstest/logs/184423/ Perfect :-) All tests in this flight passed as required version targeted for testing: ovmf 0b09397dfa0123b9a27c2c52fd2ddafd7a902137 baseline version: ovmf 0c6d29be8b1731ff6880d59e0189184395e45968 Last test of basis 184421 2024-01-22 03:11:07 Z 0 days Testing same since 184423 2024-01-22 11:14:34 Z 0 days 1 attempts ------------------------------------------------------------ People who touched revisions under test: Patrick Rudolph <patrick.rudolph@xxxxxxxxxxxxx> jobs: build-amd64-xsm pass build-i386-xsm pass build-amd64 pass build-i386 pass build-amd64-libvirt pass build-i386-libvirt pass build-amd64-pvops pass build-i386-pvops pass test-amd64-amd64-xl-qemuu-ovmf-amd64 pass test-amd64-i386-xl-qemuu-ovmf-amd64 pass ------------------------------------------------------------ sg-report-flight on osstest.test-lab.xenproject.org logs: /home/logs/logs images: /home/logs/images Logs, config files, etc. are available at http://logs.test-lab.xenproject.org/osstest/logs Explanation of these reports, and of osstest in general, is at http://xenbits.xen.org/gitweb/?p=osstest.git;a=blob;f=README.email;hb=master http://xenbits.xen.org/gitweb/?p=osstest.git;a=blob;f=README;hb=master Test harness code can be found at http://xenbits.xen.org/gitweb?p=osstest.git;a=summary Pushing revision : To xenbits.xen.org:/home/xen/git/osstest/ovmf.git 0c6d29be8b..0b09397dfa 0b09397dfa0123b9a27c2c52fd2ddafd7a902137 -> xen-tested-master
|
Lists.xenproject.org is hosted with RackSpace, monitoring our |