[Date Prev][Date Next][Thread Prev][Thread Next][Date Index][Thread Index] [xtf test] 184556: all pass - PUSHED
flight 184556 xtf real [real] http://logs.test-lab.xenproject.org/osstest/logs/184556/ Perfect :-) All tests in this flight passed as required version targeted for testing: xtf d1de27cf787e9c86610b11f6fe13d90f5ca91e27 baseline version: xtf 5a513bb7a7f08a0ab9aa23312ab9a34240a24d2c Last test of basis 184341 2024-01-13 14:42:52 Z 19 days Testing same since 184556 2024-02-01 19:13:08 Z 0 days 1 attempts ------------------------------------------------------------ People who touched revisions under test: Frediano Ziglio <frediano.ziglio@xxxxxxxxx> jobs: build-amd64-xtf pass build-amd64 pass build-amd64-pvops pass test-xtf-amd64-amd64-1 pass test-xtf-amd64-amd64-2 pass test-xtf-amd64-amd64-3 pass test-xtf-amd64-amd64-4 pass test-xtf-amd64-amd64-5 pass ------------------------------------------------------------ sg-report-flight on osstest.test-lab.xenproject.org logs: /home/logs/logs images: /home/logs/images Logs, config files, etc. are available at http://logs.test-lab.xenproject.org/osstest/logs Explanation of these reports, and of osstest in general, is at http://xenbits.xen.org/gitweb/?p=osstest.git;a=blob;f=README.email;hb=master http://xenbits.xen.org/gitweb/?p=osstest.git;a=blob;f=README;hb=master Test harness code can be found at http://xenbits.xen.org/gitweb?p=osstest.git;a=summary Pushing revision : To xenbits.xen.org:/home/xen/git/xtf.git 5a513bb..d1de27c d1de27cf787e9c86610b11f6fe13d90f5ca91e27 -> xen-tested-master
|
![]() |
Lists.xenproject.org is hosted with RackSpace, monitoring our |