[Date Prev][Date Next][Thread Prev][Thread Next][Date Index][Thread Index] [ovmf test] 184561: all pass - PUSHED
flight 184561 ovmf real [real] http://logs.test-lab.xenproject.org/osstest/logs/184561/ Perfect :-) All tests in this flight passed as required version targeted for testing: ovmf 927ea1364d047d54cb67e0f231644f295c032944 baseline version: ovmf 3656352675bf66c06b65bf85632996d3471073ae Last test of basis 184558 2024-02-01 22:41:22 Z 0 days Testing same since 184561 2024-02-02 02:55:40 Z 0 days 1 attempts ------------------------------------------------------------ People who touched revisions under test: Dongyan Qian <qiandongyan@xxxxxxxxxxx> jobs: build-amd64-xsm pass build-i386-xsm pass build-amd64 pass build-i386 pass build-amd64-libvirt pass build-i386-libvirt pass build-amd64-pvops pass build-i386-pvops pass test-amd64-amd64-xl-qemuu-ovmf-amd64 pass test-amd64-i386-xl-qemuu-ovmf-amd64 pass ------------------------------------------------------------ sg-report-flight on osstest.test-lab.xenproject.org logs: /home/logs/logs images: /home/logs/images Logs, config files, etc. are available at http://logs.test-lab.xenproject.org/osstest/logs Explanation of these reports, and of osstest in general, is at http://xenbits.xen.org/gitweb/?p=osstest.git;a=blob;f=README.email;hb=master http://xenbits.xen.org/gitweb/?p=osstest.git;a=blob;f=README;hb=master Test harness code can be found at http://xenbits.xen.org/gitweb?p=osstest.git;a=summary Pushing revision : To xenbits.xen.org:/home/xen/git/osstest/ovmf.git 3656352675..927ea1364d 927ea1364d047d54cb67e0f231644f295c032944 -> xen-tested-master
|
Lists.xenproject.org is hosted with RackSpace, monitoring our |