[Date Prev][Date Next][Thread Prev][Thread Next][Date Index][Thread Index] [ovmf test] 184587: all pass - PUSHED
flight 184587 ovmf real [real] http://logs.test-lab.xenproject.org/osstest/logs/184587/ Perfect :-) All tests in this flight passed as required version targeted for testing: ovmf 056b4bf74bf5cfa2c0c9c5e44a7c5f3f461d17c0 baseline version: ovmf 141dcaed6cc930d83a4f95cb51ebc22f51fcc32c Last test of basis 184583 2024-02-04 03:11:25 Z 0 days Testing same since 184587 2024-02-04 13:41:21 Z 0 days 1 attempts ------------------------------------------------------------ People who touched revisions under test: Pedro Falcato <pedro.falcato@xxxxxxxxx> Pierre Gondois <Pierre.Gondois@xxxxxxx> PierreGondois <pierre.gondois@xxxxxxx> jobs: build-amd64-xsm pass build-i386-xsm pass build-amd64 pass build-i386 pass build-amd64-libvirt pass build-i386-libvirt pass build-amd64-pvops pass build-i386-pvops pass test-amd64-amd64-xl-qemuu-ovmf-amd64 pass test-amd64-i386-xl-qemuu-ovmf-amd64 pass ------------------------------------------------------------ sg-report-flight on osstest.test-lab.xenproject.org logs: /home/logs/logs images: /home/logs/images Logs, config files, etc. are available at http://logs.test-lab.xenproject.org/osstest/logs Explanation of these reports, and of osstest in general, is at http://xenbits.xen.org/gitweb/?p=osstest.git;a=blob;f=README.email;hb=master http://xenbits.xen.org/gitweb/?p=osstest.git;a=blob;f=README;hb=master Test harness code can be found at http://xenbits.xen.org/gitweb?p=osstest.git;a=summary Pushing revision : To xenbits.xen.org:/home/xen/git/osstest/ovmf.git 141dcaed6c..056b4bf74b 056b4bf74bf5cfa2c0c9c5e44a7c5f3f461d17c0 -> xen-tested-master
|
Lists.xenproject.org is hosted with RackSpace, monitoring our |