[Date Prev][Date Next][Thread Prev][Thread Next][Date Index][Thread Index] [ovmf test] 185018: all pass - PUSHED
flight 185018 ovmf real [real] http://logs.test-lab.xenproject.org/osstest/logs/185018/ Perfect :-) All tests in this flight passed as required version targeted for testing: ovmf 5572b43c6767f7cc46b074ae1fc288f6eccdc65d baseline version: ovmf 6b3a512149ddadb1891f0f96c63eba5dc65c7c69 Last test of basis 185015 2024-03-13 03:16:08 Z 0 days Testing same since 185018 2024-03-13 11:45:09 Z 0 days 1 attempts ------------------------------------------------------------ People who touched revisions under test: Igniculus Fu <igniculus.fu@xxxxxxx> Jeshua Smith <jeshuas@xxxxxxxxxx> jobs: build-amd64-xsm pass build-i386-xsm pass build-amd64 pass build-i386 pass build-amd64-libvirt pass build-i386-libvirt pass build-amd64-pvops pass build-i386-pvops pass test-amd64-amd64-xl-qemuu-ovmf-amd64 pass test-amd64-i386-xl-qemuu-ovmf-amd64 pass ------------------------------------------------------------ sg-report-flight on osstest.test-lab.xenproject.org logs: /home/logs/logs images: /home/logs/images Logs, config files, etc. are available at http://logs.test-lab.xenproject.org/osstest/logs Explanation of these reports, and of osstest in general, is at http://xenbits.xen.org/gitweb/?p=osstest.git;a=blob;f=README.email;hb=master http://xenbits.xen.org/gitweb/?p=osstest.git;a=blob;f=README;hb=master Test harness code can be found at http://xenbits.xen.org/gitweb?p=osstest.git;a=summary Pushing revision : To xenbits.xen.org:/home/xen/git/osstest/ovmf.git 6b3a512149..5572b43c67 5572b43c6767f7cc46b074ae1fc288f6eccdc65d -> xen-tested-master
|
Lists.xenproject.org is hosted with RackSpace, monitoring our |