[Date Prev][Date Next][Thread Prev][Thread Next][Date Index][Thread Index] [ovmf test] 186271: all pass - PUSHED
flight 186271 ovmf real [real] http://logs.test-lab.xenproject.org/osstest/logs/186271/ Perfect :-) All tests in this flight passed as required version targeted for testing: ovmf f9c2f2fa0fd92f94d6c20292f37d5302762cad66 baseline version: ovmf 71606314f80500ff0849f66553fad0da11bf4beb Last test of basis 186267 2024-06-06 15:14:32 Z 0 days Testing same since 186271 2024-06-07 01:41:10 Z 0 days 1 attempts ------------------------------------------------------------ People who touched revisions under test: Michael D Kinney <michael.d.kinney@xxxxxxxxx> jobs: build-amd64-xsm pass build-i386-xsm pass build-amd64 pass build-i386 pass build-amd64-libvirt pass build-i386-libvirt pass build-amd64-pvops pass build-i386-pvops pass test-amd64-amd64-xl-qemuu-ovmf-amd64 pass ------------------------------------------------------------ sg-report-flight on osstest.test-lab.xenproject.org logs: /home/logs/logs images: /home/logs/images Logs, config files, etc. are available at http://logs.test-lab.xenproject.org/osstest/logs Explanation of these reports, and of osstest in general, is at http://xenbits.xen.org/gitweb/?p=osstest.git;a=blob;f=README.email;hb=master http://xenbits.xen.org/gitweb/?p=osstest.git;a=blob;f=README;hb=master Test harness code can be found at http://xenbits.xen.org/gitweb?p=osstest.git;a=summary Pushing revision : To xenbits.xen.org:/home/xen/git/osstest/ovmf.git 71606314f8..f9c2f2fa0f f9c2f2fa0fd92f94d6c20292f37d5302762cad66 -> xen-tested-master
|
Lists.xenproject.org is hosted with RackSpace, monitoring our |