[Date Prev][Date Next][Thread Prev][Thread Next][Date Index][Thread Index] [ovmf test] 186309: all pass - PUSHED
flight 186309 ovmf real [real] http://logs.test-lab.xenproject.org/osstest/logs/186309/ Perfect :-) All tests in this flight passed as required version targeted for testing: ovmf 0982da4f50279bfb2be479f97821b86feb87c336 baseline version: ovmf 6d15276ceddd2bf05995ee2efa86316fca1cd73a Last test of basis 186306 2024-06-10 16:12:57 Z 0 days Testing same since 186309 2024-06-11 09:43:10 Z 0 days 1 attempts ------------------------------------------------------------ People who touched revisions under test: Dhaval <dhaval@xxxxxxxxxxxx> Dhaval Sharma <dhaval@xxxxxxxxxxxx> jobs: build-amd64-xsm pass build-i386-xsm pass build-amd64 pass build-i386 pass build-amd64-libvirt pass build-i386-libvirt pass build-amd64-pvops pass build-i386-pvops pass test-amd64-amd64-xl-qemuu-ovmf-amd64 pass ------------------------------------------------------------ sg-report-flight on osstest.test-lab.xenproject.org logs: /home/logs/logs images: /home/logs/images Logs, config files, etc. are available at http://logs.test-lab.xenproject.org/osstest/logs Explanation of these reports, and of osstest in general, is at http://xenbits.xen.org/gitweb/?p=osstest.git;a=blob;f=README.email;hb=master http://xenbits.xen.org/gitweb/?p=osstest.git;a=blob;f=README;hb=master Test harness code can be found at http://xenbits.xen.org/gitweb?p=osstest.git;a=summary Pushing revision : To xenbits.xen.org:/home/xen/git/osstest/ovmf.git 6d15276ced..0982da4f50 0982da4f50279bfb2be479f97821b86feb87c336 -> xen-tested-master
|
Lists.xenproject.org is hosted with RackSpace, monitoring our |