[Date Prev][Date Next][Thread Prev][Thread Next][Date Index][Thread Index] [ovmf test] 186399: all pass - PUSHED
flight 186399 ovmf real [real] http://logs.test-lab.xenproject.org/osstest/logs/186399/ Perfect :-) All tests in this flight passed as required version targeted for testing: ovmf ffce430d2b65d508a1604dc986ba16db3583943d baseline version: ovmf bfda27ddc89502190c79f74fc20cb81458d58449 Last test of basis 186397 2024-06-18 15:12:52 Z 0 days Testing same since 186399 2024-06-18 19:43:01 Z 0 days 1 attempts ------------------------------------------------------------ People who touched revisions under test: Corvin Köhne <c.koehne@xxxxxxxxxxxx> jobs: build-amd64-xsm pass build-i386-xsm pass build-amd64 pass build-i386 pass build-amd64-libvirt pass build-i386-libvirt pass build-amd64-pvops pass build-i386-pvops pass test-amd64-amd64-xl-qemuu-ovmf-amd64 pass ------------------------------------------------------------ sg-report-flight on osstest.test-lab.xenproject.org logs: /home/logs/logs images: /home/logs/images Logs, config files, etc. are available at http://logs.test-lab.xenproject.org/osstest/logs Explanation of these reports, and of osstest in general, is at http://xenbits.xen.org/gitweb/?p=osstest.git;a=blob;f=README.email;hb=master http://xenbits.xen.org/gitweb/?p=osstest.git;a=blob;f=README;hb=master Test harness code can be found at http://xenbits.xen.org/gitweb?p=osstest.git;a=summary Pushing revision : To xenbits.xen.org:/home/xen/git/osstest/ovmf.git bfda27ddc8..ffce430d2b ffce430d2b65d508a1604dc986ba16db3583943d -> xen-tested-master
|
Lists.xenproject.org is hosted with RackSpace, monitoring our |