[Date Prev][Date Next][Thread Prev][Thread Next][Date Index][Thread Index] [ovmf test] 187027: all pass - PUSHED
flight 187027 ovmf real [real] http://logs.test-lab.xenproject.org/osstest/logs/187027/ Perfect :-) All tests in this flight passed as required version targeted for testing: ovmf 418b8176b8d7d99f4303d92f87130f1b09989b7a baseline version: ovmf 0343e7523387df6204c3219211d798683d3fd200 Last test of basis 187024 2024-07-27 06:15:13 Z 0 days Testing same since 187027 2024-07-27 12:15:17 Z 0 days 1 attempts ------------------------------------------------------------ People who touched revisions under test: Ard Biesheuvel <ardb@xxxxxxxxxx> jobs: build-amd64-xsm pass build-i386-xsm pass build-amd64 pass build-i386 pass build-amd64-libvirt pass build-i386-libvirt pass build-amd64-pvops pass build-i386-pvops pass test-amd64-amd64-xl-qemuu-ovmf-amd64 pass ------------------------------------------------------------ sg-report-flight on osstest.test-lab.xenproject.org logs: /home/logs/logs images: /home/logs/images Logs, config files, etc. are available at http://logs.test-lab.xenproject.org/osstest/logs Explanation of these reports, and of osstest in general, is at http://xenbits.xen.org/gitweb/?p=osstest.git;a=blob;f=README.email;hb=master http://xenbits.xen.org/gitweb/?p=osstest.git;a=blob;f=README;hb=master Test harness code can be found at http://xenbits.xen.org/gitweb?p=osstest.git;a=summary Pushing revision : To xenbits.xen.org:/home/xen/git/osstest/ovmf.git 0343e75233..418b8176b8 418b8176b8d7d99f4303d92f87130f1b09989b7a -> xen-tested-master
|
![]() |
Lists.xenproject.org is hosted with RackSpace, monitoring our |