[Date Prev][Date Next][Thread Prev][Thread Next][Date Index][Thread Index] [ovmf test] 187413: all pass - PUSHED
flight 187413 ovmf real [real] http://logs.test-lab.xenproject.org/osstest/logs/187413/ Perfect :-) All tests in this flight passed as required version targeted for testing: ovmf 6a7be5a8418ab6397375e32e399e9523db9d4293 baseline version: ovmf b6c4708c4d3470cfd9f465771a665510d3ad1a66 Last test of basis 187409 2024-08-29 20:11:30 Z 0 days Testing same since 187413 2024-08-30 01:56:32 Z 0 days 1 attempts ------------------------------------------------------------ People who touched revisions under test: Abdul Lateef Attar <AbdulLateef.Attar@xxxxxxx> jobs: build-amd64-xsm pass build-i386-xsm pass build-amd64 pass build-i386 pass build-amd64-libvirt pass build-i386-libvirt pass build-amd64-pvops pass build-i386-pvops pass test-amd64-amd64-xl-qemuu-ovmf-amd64 pass ------------------------------------------------------------ sg-report-flight on osstest.test-lab.xenproject.org logs: /home/logs/logs images: /home/logs/images Logs, config files, etc. are available at http://logs.test-lab.xenproject.org/osstest/logs Explanation of these reports, and of osstest in general, is at http://xenbits.xen.org/gitweb/?p=osstest.git;a=blob;f=README.email;hb=master http://xenbits.xen.org/gitweb/?p=osstest.git;a=blob;f=README;hb=master Test harness code can be found at http://xenbits.xen.org/gitweb?p=osstest.git;a=summary Pushing revision : To xenbits.xen.org:/home/xen/git/osstest/ovmf.git b6c4708c4d..6a7be5a841 6a7be5a8418ab6397375e32e399e9523db9d4293 -> xen-tested-master
|
Lists.xenproject.org is hosted with RackSpace, monitoring our |