[Date Prev][Date Next][Thread Prev][Thread Next][Date Index][Thread Index] [ovmf test] 187425: all pass - PUSHED
flight 187425 ovmf real [real] http://logs.test-lab.xenproject.org/osstest/logs/187425/ Perfect :-) All tests in this flight passed as required version targeted for testing: ovmf 0b0b7041cc6cab48479caeb4013f2a77b26b9b1d baseline version: ovmf 9d5a9940e4b1bf7cc9080ff245485abbf1858d2c Last test of basis 187423 2024-08-30 16:11:28 Z 0 days Testing same since 187425 2024-08-30 18:11:27 Z 0 days 1 attempts ------------------------------------------------------------ People who touched revisions under test: Anthony PERARD <anthony.perard@xxxxxxxxxx> Jason Andryuk <jason.andryuk@xxxxxxx> jobs: build-amd64-xsm pass build-i386-xsm pass build-amd64 pass build-i386 pass build-amd64-libvirt pass build-i386-libvirt pass build-amd64-pvops pass build-i386-pvops pass test-amd64-amd64-xl-qemuu-ovmf-amd64 pass ------------------------------------------------------------ sg-report-flight on osstest.test-lab.xenproject.org logs: /home/logs/logs images: /home/logs/images Logs, config files, etc. are available at http://logs.test-lab.xenproject.org/osstest/logs Explanation of these reports, and of osstest in general, is at http://xenbits.xen.org/gitweb/?p=osstest.git;a=blob;f=README.email;hb=master http://xenbits.xen.org/gitweb/?p=osstest.git;a=blob;f=README;hb=master Test harness code can be found at http://xenbits.xen.org/gitweb?p=osstest.git;a=summary Pushing revision : To xenbits.xen.org:/home/xen/git/osstest/ovmf.git 9d5a9940e4..0b0b7041cc 0b0b7041cc6cab48479caeb4013f2a77b26b9b1d -> xen-tested-master
|
![]() |
Lists.xenproject.org is hosted with RackSpace, monitoring our |