[Date Prev][Date Next][Thread Prev][Thread Next][Date Index][Thread Index] [ovmf test] 187428: all pass - PUSHED
flight 187428 ovmf real [real] http://logs.test-lab.xenproject.org/osstest/logs/187428/ Perfect :-) All tests in this flight passed as required version targeted for testing: ovmf f6092b5e2be20139393a58bf454fb000020a3918 baseline version: ovmf 0b0b7041cc6cab48479caeb4013f2a77b26b9b1d Last test of basis 187425 2024-08-30 18:11:27 Z 0 days Testing same since 187428 2024-08-30 20:43:23 Z 0 days 1 attempts ------------------------------------------------------------ People who touched revisions under test: Chao Li <lichao@xxxxxxxxxxx> Wei6 Xu <wei6.xu@xxxxxxxxx> jobs: build-amd64-xsm pass build-i386-xsm pass build-amd64 pass build-i386 pass build-amd64-libvirt pass build-i386-libvirt pass build-amd64-pvops pass build-i386-pvops pass test-amd64-amd64-xl-qemuu-ovmf-amd64 pass ------------------------------------------------------------ sg-report-flight on osstest.test-lab.xenproject.org logs: /home/logs/logs images: /home/logs/images Logs, config files, etc. are available at http://logs.test-lab.xenproject.org/osstest/logs Explanation of these reports, and of osstest in general, is at http://xenbits.xen.org/gitweb/?p=osstest.git;a=blob;f=README.email;hb=master http://xenbits.xen.org/gitweb/?p=osstest.git;a=blob;f=README;hb=master Test harness code can be found at http://xenbits.xen.org/gitweb?p=osstest.git;a=summary Pushing revision : To xenbits.xen.org:/home/xen/git/osstest/ovmf.git 0b0b7041cc..f6092b5e2b f6092b5e2be20139393a58bf454fb000020a3918 -> xen-tested-master
|
![]() |
Lists.xenproject.org is hosted with RackSpace, monitoring our |