[Date Prev][Date Next][Thread Prev][Thread Next][Date Index][Thread Index] [ovmf test] 168232: all pass - PUSHED
flight 168232 ovmf real [real] http://logs.test-lab.xenproject.org/osstest/logs/168232/ Perfect :-) All tests in this flight passed as required version targeted for testing: ovmf 54cddc3ad4b3a317985ce5f491f9b1f31ab10dd8 baseline version: ovmf b24306f15daa2ff8510b06702114724b33895d3c Last test of basis 168185 2022-02-21 15:43:05 Z 4 days Testing same since 168232 2022-02-25 16:10:29 Z 0 days 1 attempts ------------------------------------------------------------ People who touched revisions under test: Ard Biesheuvel <ardb@xxxxxxxxxx> jobs: build-amd64-xsm pass build-i386-xsm pass build-amd64 pass build-i386 pass build-amd64-libvirt pass build-i386-libvirt pass build-amd64-pvops pass build-i386-pvops pass test-amd64-amd64-xl-qemuu-ovmf-amd64 pass test-amd64-i386-xl-qemuu-ovmf-amd64 pass ------------------------------------------------------------ sg-report-flight on osstest.test-lab.xenproject.org logs: /home/logs/logs images: /home/logs/images Logs, config files, etc. are available at http://logs.test-lab.xenproject.org/osstest/logs Explanation of these reports, and of osstest in general, is at http://xenbits.xen.org/gitweb/?p=osstest.git;a=blob;f=README.email;hb=master http://xenbits.xen.org/gitweb/?p=osstest.git;a=blob;f=README;hb=master Test harness code can be found at http://xenbits.xen.org/gitweb?p=osstest.git;a=summary Pushing revision : To xenbits.xen.org:/home/xen/git/osstest/ovmf.git b24306f15d..54cddc3ad4 54cddc3ad4b3a317985ce5f491f9b1f31ab10dd8 -> xen-tested-master
|
Lists.xenproject.org is hosted with RackSpace, monitoring our |