[Date Prev][Date Next][Thread Prev][Thread Next][Date Index][Thread Index] [ovmf test] 186203: all pass - PUSHED
flight 186203 ovmf real [real] http://logs.test-lab.xenproject.org/osstest/logs/186203/ Perfect :-) All tests in this flight passed as required version targeted for testing: ovmf a8dc6bf73f789f38f2930641b20dfd6d9e38f411 baseline version: ovmf ced13b93afea87a8a1fe6ddbb67240a84cb2e3d3 Last test of basis 186201 2024-05-30 21:13:00 Z 0 days Testing same since 186203 2024-05-30 23:12:41 Z 0 days 1 attempts ------------------------------------------------------------ People who touched revisions under test: dependabot[bot] <49699333+dependabot[bot]@users.noreply.github.com> dependabot[bot] <support@xxxxxxxxxx> jobs: build-amd64-xsm pass build-i386-xsm pass build-amd64 pass build-i386 pass build-amd64-libvirt pass build-i386-libvirt pass build-amd64-pvops pass build-i386-pvops pass test-amd64-amd64-xl-qemuu-ovmf-amd64 pass ------------------------------------------------------------ sg-report-flight on osstest.test-lab.xenproject.org logs: /home/logs/logs images: /home/logs/images Logs, config files, etc. are available at http://logs.test-lab.xenproject.org/osstest/logs Explanation of these reports, and of osstest in general, is at http://xenbits.xen.org/gitweb/?p=osstest.git;a=blob;f=README.email;hb=master http://xenbits.xen.org/gitweb/?p=osstest.git;a=blob;f=README;hb=master Test harness code can be found at http://xenbits.xen.org/gitweb?p=osstest.git;a=summary Pushing revision : To xenbits.xen.org:/home/xen/git/osstest/ovmf.git ced13b93af..a8dc6bf73f a8dc6bf73f789f38f2930641b20dfd6d9e38f411 -> xen-tested-master
|
Lists.xenproject.org is hosted with RackSpace, monitoring our |