[Date Prev][Date Next][Thread Prev][Thread Next][Date Index][Thread Index] [ovmf test] 186352: all pass - PUSHED
flight 186352 ovmf real [real] http://logs.test-lab.xenproject.org/osstest/logs/186352/ Perfect :-) All tests in this flight passed as required version targeted for testing: ovmf 5e776299a2604b336a947e68593012ab2cc16eb4 baseline version: ovmf ce91687a1b2d4e03b01abb474b4665629776f588 Last test of basis 186346 2024-06-14 07:13:40 Z 0 days Testing same since 186352 2024-06-14 13:42:52 Z 0 days 1 attempts ------------------------------------------------------------ People who touched revisions under test: Gerd Hoffmann <kraxel@xxxxxxxxxx> jobs: build-amd64-xsm pass build-i386-xsm pass build-amd64 pass build-i386 pass build-amd64-libvirt pass build-i386-libvirt pass build-amd64-pvops pass build-i386-pvops pass test-amd64-amd64-xl-qemuu-ovmf-amd64 pass ------------------------------------------------------------ sg-report-flight on osstest.test-lab.xenproject.org logs: /home/logs/logs images: /home/logs/images Logs, config files, etc. are available at http://logs.test-lab.xenproject.org/osstest/logs Explanation of these reports, and of osstest in general, is at http://xenbits.xen.org/gitweb/?p=osstest.git;a=blob;f=README.email;hb=master http://xenbits.xen.org/gitweb/?p=osstest.git;a=blob;f=README;hb=master Test harness code can be found at http://xenbits.xen.org/gitweb?p=osstest.git;a=summary Pushing revision : To xenbits.xen.org:/home/xen/git/osstest/ovmf.git ce91687a1b..5e776299a2 5e776299a2604b336a947e68593012ab2cc16eb4 -> xen-tested-master
|
Lists.xenproject.org is hosted with RackSpace, monitoring our |