[Date Prev][Date Next][Thread Prev][Thread Next][Date Index][Thread Index] [ovmf test] 176670: all pass - PUSHED
flight 176670 ovmf real [real] http://logs.test-lab.xenproject.org/osstest/logs/176670/ Perfect :-) All tests in this flight passed as required version targeted for testing: ovmf b59e6fdae2545b45c36c8c5373f4b858fb83c8cd baseline version: ovmf 5db84c85c3544b92fa236c4d169440d523712ae0 Last test of basis 176447 2023-02-07 08:42:10 Z 1 days Testing same since 176670 2023-02-08 20:40:45 Z 0 days 1 attempts ------------------------------------------------------------ People who touched revisions under test: Marvin H?user <mhaeuser@xxxxxxxxx> Marvin Ha?user <mhaeuser@xxxxxxxxx> Pedro Falcato <pedro.falcato@xxxxxxxxx> jobs: build-amd64-xsm pass build-i386-xsm pass build-amd64 pass build-i386 pass build-amd64-libvirt pass build-i386-libvirt pass build-amd64-pvops pass build-i386-pvops pass test-amd64-amd64-xl-qemuu-ovmf-amd64 pass test-amd64-i386-xl-qemuu-ovmf-amd64 pass ------------------------------------------------------------ sg-report-flight on osstest.test-lab.xenproject.org logs: /home/logs/logs images: /home/logs/images Logs, config files, etc. are available at http://logs.test-lab.xenproject.org/osstest/logs Explanation of these reports, and of osstest in general, is at http://xenbits.xen.org/gitweb/?p=osstest.git;a=blob;f=README.email;hb=master http://xenbits.xen.org/gitweb/?p=osstest.git;a=blob;f=README;hb=master Test harness code can be found at http://xenbits.xen.org/gitweb?p=osstest.git;a=summary Pushing revision : To xenbits.xen.org:/home/xen/git/osstest/ovmf.git 5db84c85c3..b59e6fdae2 b59e6fdae2545b45c36c8c5373f4b858fb83c8cd -> xen-tested-master
|
Lists.xenproject.org is hosted with RackSpace, monitoring our |