[Date Prev][Date Next][Thread Prev][Thread Next][Date Index][Thread Index] [ovmf test] 187110: all pass - PUSHED
flight 187110 ovmf real [real] http://logs.test-lab.xenproject.org/osstest/logs/187110/ Perfect :-) All tests in this flight passed as required version targeted for testing: ovmf 5c9b889b81f9ad22c7442887be72abef054998b9 baseline version: ovmf 2d5390053ff934ec1e94b84f5bb67400b3b75841 Last test of basis 187109 2024-08-01 15:41:27 Z 0 days Testing same since 187110 2024-08-01 17:13:18 Z 0 days 1 attempts ------------------------------------------------------------ People who touched revisions under test: Zhihao Li <zhihao.li@xxxxxxxxx> jobs: build-amd64-xsm pass build-i386-xsm pass build-amd64 pass build-i386 pass build-amd64-libvirt pass build-i386-libvirt pass build-amd64-pvops pass build-i386-pvops pass test-amd64-amd64-xl-qemuu-ovmf-amd64 pass ------------------------------------------------------------ sg-report-flight on osstest.test-lab.xenproject.org logs: /home/logs/logs images: /home/logs/images Logs, config files, etc. are available at http://logs.test-lab.xenproject.org/osstest/logs Explanation of these reports, and of osstest in general, is at http://xenbits.xen.org/gitweb/?p=osstest.git;a=blob;f=README.email;hb=master http://xenbits.xen.org/gitweb/?p=osstest.git;a=blob;f=README;hb=master Test harness code can be found at http://xenbits.xen.org/gitweb?p=osstest.git;a=summary Pushing revision : To xenbits.xen.org:/home/xen/git/osstest/ovmf.git 2d5390053f..5c9b889b81 5c9b889b81f9ad22c7442887be72abef054998b9 -> xen-tested-master
|
![]() |
Lists.xenproject.org is hosted with RackSpace, monitoring our |