[Date Prev][Date Next][Thread Prev][Thread Next][Date Index][Thread Index] [ovmf test] 187111: all pass - PUSHED
flight 187111 ovmf real [real] http://logs.test-lab.xenproject.org/osstest/logs/187111/ Perfect :-) All tests in this flight passed as required version targeted for testing: ovmf b0e7a75a4959a481cc6b857d6e6a9607d14523bf baseline version: ovmf 5c9b889b81f9ad22c7442887be72abef054998b9 Last test of basis 187110 2024-08-01 17:13:18 Z 0 days Testing same since 187111 2024-08-01 19:45:07 Z 0 days 1 attempts ------------------------------------------------------------ People who touched revisions under test: Liming Gao <gaoliming@xxxxxxxxxxxxxx> Rohit Mathew <rohit.mathew@xxxxxxx> jobs: build-amd64-xsm pass build-i386-xsm pass build-amd64 pass build-i386 pass build-amd64-libvirt pass build-i386-libvirt pass build-amd64-pvops pass build-i386-pvops pass test-amd64-amd64-xl-qemuu-ovmf-amd64 pass ------------------------------------------------------------ sg-report-flight on osstest.test-lab.xenproject.org logs: /home/logs/logs images: /home/logs/images Logs, config files, etc. are available at http://logs.test-lab.xenproject.org/osstest/logs Explanation of these reports, and of osstest in general, is at http://xenbits.xen.org/gitweb/?p=osstest.git;a=blob;f=README.email;hb=master http://xenbits.xen.org/gitweb/?p=osstest.git;a=blob;f=README;hb=master Test harness code can be found at http://xenbits.xen.org/gitweb?p=osstest.git;a=summary Pushing revision : To xenbits.xen.org:/home/xen/git/osstest/ovmf.git 5c9b889b81..b0e7a75a49 b0e7a75a4959a481cc6b857d6e6a9607d14523bf -> xen-tested-master
|
Lists.xenproject.org is hosted with RackSpace, monitoring our |